BEGIN:VCALENDAR
VERSION:2.0
PRODID:-//First in First Aid Services - ECPv5.3.2.1//NONSGML v1.0//EN
CALSCALE:GREGORIAN
METHOD:PUBLISH
X-WR-CALNAME:First in First Aid Services
X-ORIGINAL-URL:https://firstinfirstaidservices.com.au
X-WR-CALDESC:Events for First in First Aid Services
BEGIN:VTIMEZONE
TZID:Australia/Adelaide
BEGIN:STANDARD
TZOFFSETFROM:+1030
TZOFFSETTO:+0930
TZNAME:ACST
DTSTART:20210403T163000
END:STANDARD
BEGIN:DAYLIGHT
TZOFFSETFROM:+0930
TZOFFSETTO:+1030
TZNAME:ACDT
DTSTART:20211002T163000
END:DAYLIGHT
END:VTIMEZONE
BEGIN:VEVENT
DTSTART;TZID=Australia/Adelaide:20211215T090000
DTEND;TZID=Australia/Adelaide:20211215T173000
DTSTAMP:20210224T075311
CREATED:20210122T082121Z
LAST-MODIFIED:20210122T082213Z
UID:2124-1639558800-1639589400@firstinfirstaidservices.com.au
SUMMARY:First Aid Courses
DESCRIPTION:HLTAID001 Provide CPR \nHLTAID002 Provide Basic Emergency Life Support \nHLTAID003 Provide First Aid \nHLTAID004 Provide an Emergency First Aid Response in an Education and Care Setting \n\n\n    	\n	\n	    		\n			\n	    	    	        \n		    \n\n            	\n	    		    \n				        		BOOK NOW
URL:https://firstinfirstaidservices.com.au/event/first-aid-courses-3-2-2-2-2-2-2-2/
LOCATION:First In First Aid Services\, 18A Endeavour Dr\, Port Adelaide\, SA\, 5015\, Australia
ATTACH;FMTTYPE=image/jpeg:https://firstinfirstaidservices.com.au/wp-content/uploads/2021/01/CPR-3-sma.jpg
END:VEVENT
BEGIN:VEVENT
DTSTART;TZID=Australia/Adelaide:20211124T090000
DTEND;TZID=Australia/Adelaide:20211124T173000
DTSTAMP:20210224T075311
CREATED:20210122T082018Z
LAST-MODIFIED:20210122T082039Z
UID:2114-1637744400-1637775000@firstinfirstaidservices.com.au
SUMMARY:First Aid Courses
DESCRIPTION:HLTAID001 Provide CPR \nHLTAID002 Provide Basic Emergency Life Support \nHLTAID003 Provide First Aid \nHLTAID004 Provide an Emergency First Aid Response in an Education and Care Setting \n\n\n    	\n	\n	    		\n			\n	    	    	        \n		    \n\n            	\n	    		    \n				        		BOOK NOW
URL:https://firstinfirstaidservices.com.au/event/first-aid-courses-3-2-2-2-2-2/
LOCATION:First In First Aid Services\, 18A Endeavour Dr\, Port Adelaide\, SA\, 5015\, Australia
ATTACH;FMTTYPE=image/jpeg:https://firstinfirstaidservices.com.au/wp-content/uploads/2021/01/CPR-3-sma.jpg
END:VEVENT
BEGIN:VEVENT
DTSTART;TZID=Australia/Adelaide:20211020T090000
DTEND;TZID=Australia/Adelaide:20211020T173000
DTSTAMP:20210224T075311
CREATED:20210122T081900Z
LAST-MODIFIED:20210122T081942Z
UID:2108-1634720400-1634751000@firstinfirstaidservices.com.au
SUMMARY:First Aid Courses
DESCRIPTION:HLTAID001 Provide CPR \nHLTAID002 Provide Basic Emergency Life Support \nHLTAID003 Provide First Aid \nHLTAID004 Provide an Emergency First Aid Response in an Education and Care Setting \n\n\n    	\n	\n	    		\n			\n	    	    	        \n		    \n\n            	\n	    		    \n				        		BOOK NOW
URL:https://firstinfirstaidservices.com.au/event/first-aid-courses-3-2-2-2-2/
LOCATION:First In First Aid Services\, 18A Endeavour Dr\, Port Adelaide\, SA\, 5015\, Australia
ATTACH;FMTTYPE=image/jpeg:https://firstinfirstaidservices.com.au/wp-content/uploads/2021/01/CPR-3-sma.jpg
END:VEVENT
BEGIN:VEVENT
DTSTART;TZID=Australia/Adelaide:20210922T090000
DTEND;TZID=Australia/Adelaide:20210922T173000
DTSTAMP:20210224T075311
CREATED:20210122T081756Z
LAST-MODIFIED:20210122T081828Z
UID:2102-1632301200-1632331800@firstinfirstaidservices.com.au
SUMMARY:First Aid Courses
DESCRIPTION:HLTAID001 Provide CPR \nHLTAID002 Provide Basic Emergency Life Support \nHLTAID003 Provide First Aid \nHLTAID004 Provide an Emergency First Aid Response in an Education and Care Setting \n\n\n    	\n	\n	    		\n			\n	    	    	        \n		    \n\n            	\n	    		    \n				        		BOOK NOW
URL:https://firstinfirstaidservices.com.au/event/first-aid-courses-3-2-2-2/
LOCATION:First In First Aid Services\, 18A Endeavour Dr\, Port Adelaide\, SA\, 5015\, Australia
ATTACH;FMTTYPE=image/jpeg:https://firstinfirstaidservices.com.au/wp-content/uploads/2021/01/CPR-3-sma.jpg
END:VEVENT
BEGIN:VEVENT
DTSTART;TZID=Australia/Adelaide:20210825T090000
DTEND;TZID=Australia/Adelaide:20210825T173000
DTSTAMP:20210224T075311
CREATED:20210122T075934Z
LAST-MODIFIED:20210122T081724Z
UID:2087-1629882000-1629912600@firstinfirstaidservices.com.au
SUMMARY:First Aid Courses
DESCRIPTION:HLTAID001 Provide CPR \nHLTAID002 Provide Basic Emergency Life Support \nHLTAID003 Provide First Aid \nHLTAID004 Provide an Emergency First Aid Response in an Education and Care Setting \n\n\n    	\n	\n	    		\n			\n	    	    	        \n		    \n\n            	\n	    		    \n				        		BOOK NOW
URL:https://firstinfirstaidservices.com.au/event/first-aid-courses-3-2-2/
LOCATION:First In First Aid Services\, 18A Endeavour Dr\, Port Adelaide\, SA\, 5015\, Australia
ATTACH;FMTTYPE=image/jpeg:https://firstinfirstaidservices.com.au/wp-content/uploads/2021/01/CPR-3-sma.jpg
END:VEVENT
BEGIN:VEVENT
DTSTART;TZID=Australia/Adelaide:20210721T090000
DTEND;TZID=Australia/Adelaide:20210721T173000
DTSTAMP:20210224T075311
CREATED:20210122T075822Z
LAST-MODIFIED:20210122T081554Z
UID:2081-1626858000-1626888600@firstinfirstaidservices.com.au
SUMMARY:First Aid Courses
DESCRIPTION:HLTAID001 Provide CPR \nHLTAID002 Provide Basic Emergency Life Support \nHLTAID003 Provide First Aid \nHLTAID004 Provide an Emergency First Aid Response in an Education and Care Setting \n\n\n    	\n	\n	    		\n			\n	    	    	        \n		    \n\n            	\n	    		    \n				        		BOOK NOW
URL:https://firstinfirstaidservices.com.au/event/first-aid-courses-3-2/
LOCATION:First In First Aid Services\, 18A Endeavour Dr\, Port Adelaide\, SA\, 5015\, Australia
ATTACH;FMTTYPE=image/jpeg:https://firstinfirstaidservices.com.au/wp-content/uploads/2021/01/CPR-3-sma.jpg
END:VEVENT
BEGIN:VEVENT
DTSTART;TZID=Australia/Adelaide:20210623T090000
DTEND;TZID=Australia/Adelaide:20210623T173000
DTSTAMP:20210224T075311
CREATED:20210122T075616Z
LAST-MODIFIED:20210122T081626Z
UID:2075-1624438800-1624469400@firstinfirstaidservices.com.au
SUMMARY:First Aid Courses
DESCRIPTION:HLTAID001 Provide CPR \nHLTAID002 Provide Basic Emergency Life Support \nHLTAID003 Provide First Aid \nHLTAID004 Provide an Emergency First Aid Response in an Education and Care Setting \n\n\n    	\n	\n	    		\n			\n	    	    	        \n		    \n\n            	\n	    		    \n				        		BOOK NOW
URL:https://firstinfirstaidservices.com.au/event/first-aid-courses-3/
LOCATION:First In First Aid Services\, 18A Endeavour Dr\, Port Adelaide\, SA\, 5015\, Australia
ATTACH;FMTTYPE=image/jpeg:https://firstinfirstaidservices.com.au/wp-content/uploads/2021/01/CPR-3-sma.jpg
END:VEVENT
BEGIN:VEVENT
DTSTART;TZID=Australia/Adelaide:20210526T090000
DTEND;TZID=Australia/Adelaide:20210526T173000
DTSTAMP:20210224T075311
CREATED:20210122T075442Z
LAST-MODIFIED:20210122T075541Z
UID:2070-1622019600-1622050200@firstinfirstaidservices.com.au
SUMMARY:First Aid Courses
DESCRIPTION:HLTAID001 Provide CPR \nHLTAID002 Provide Basic Emergency Life Support \nHLTAID003 Provide First Aid \nHLTAID004 Provide an Emergency First Aid Response in an Education and Care Setting \n\n\n    	\n	\n	    		\n			\n	    	    	        \n		    \n\n            	\n	    		    \n				        		BOOK NOW
URL:https://firstinfirstaidservices.com.au/event/first-aid-courses-2-2/
LOCATION:SA
ATTACH;FMTTYPE=image/jpeg:https://firstinfirstaidservices.com.au/wp-content/uploads/2021/01/CPR-3-sma.jpg
END:VEVENT
BEGIN:VEVENT
DTSTART;TZID=Australia/Adelaide:20210421T090000
DTEND;TZID=Australia/Adelaide:20210421T173000
DTSTAMP:20210224T075311
CREATED:20210122T075340Z
LAST-MODIFIED:20210122T075409Z
UID:2065-1618995600-1619026200@firstinfirstaidservices.com.au
SUMMARY:First Aid Courses
DESCRIPTION:HLTAID001 Provide CPR \nHLTAID002 Provide Basic Emergency Life Support \nHLTAID003 Provide First Aid \nHLTAID004 Provide an Emergency First Aid Response in an Education and Care Setting \n\n\n    	\n	\n	    		\n			\n	    	    	        \n		    \n\n            	\n	    		    \n				        		BOOK NOW
URL:https://firstinfirstaidservices.com.au/event/first-aid-courses-2/
LOCATION:SA
ATTACH;FMTTYPE=image/jpeg:https://firstinfirstaidservices.com.au/wp-content/uploads/2021/01/CPR-3-sma.jpg
END:VEVENT
BEGIN:VEVENT
DTSTART;TZID=Australia/Adelaide:20210324T090000
DTEND;TZID=Australia/Adelaide:20210324T173000
DTSTAMP:20210224T075311
CREATED:20210122T074153Z
LAST-MODIFIED:20210122T074851Z
UID:2054-1616576400-1616607000@firstinfirstaidservices.com.au
SUMMARY:First Aid Courses
DESCRIPTION:HLTAID001 Provide CPR \nHLTAID002 Provide Basic Emergency Life Support \nHLTAID003 Provide First Aid \nHLTAID004 Provide an Emergency First Aid Response in an Education and Care Setting \n  \n\n\n    	\n	\n	    		\n			\n	    	    	        \n		    \n\n            	\n	    		    \n				        		BOOK NOW
URL:https://firstinfirstaidservices.com.au/event/2054/
LOCATION:SA
ATTACH;FMTTYPE=image/jpeg:https://firstinfirstaidservices.com.au/wp-content/uploads/2021/01/CPR-3-sma.jpg
END:VEVENT
BEGIN:VEVENT
DTSTART;TZID=Australia/Adelaide:20210224T090000
DTEND;TZID=Australia/Adelaide:20210224T173000
DTSTAMP:20210224T075311
CREATED:20210104T023825Z
LAST-MODIFIED:20210122T091312Z
UID:401-1614157200-1614187800@firstinfirstaidservices.com.au
SUMMARY:First Aid Courses
DESCRIPTION:HLTAID003 Provide First Aid \nHLTAID001 Provide CPR \nHLTAID002 Provide Basic Emergency Life Support \nHLTAID004 Provide an Emergency First Aid Response in an Education and Care Setting \n\n\n    	\n	\n	    		\n			\n	    	    	        \n		    \n\n            	\n	    		    \n				        		BOOK NOW
URL:https://firstinfirstaidservices.com.au/event/first-aid-courses/
LOCATION:First In First Aid Services\, 18A Endeavour Dr\, Port Adelaide\, SA\, 5015\, Australia
ATTACH;FMTTYPE=image/jpeg:https://firstinfirstaidservices.com.au/wp-content/uploads/2021/01/CPR-3-sma.jpg
END:VEVENT
END:VCALENDAR